BEGIN:VCALENDAR
VERSION:2.0
PRODID:-//wp-events-plugin.com//7.2.3.1//EN
TZID:America/Chicago
X-WR-TIMEZONE:America/Chicago
BEGIN:VEVENT
UID:823@harvestpoint.org
DTSTART;TZID=America/Chicago;VALUE=DATE:20260410
DTEND;TZID=America/Chicago;VALUE=DATE:20260413
DTSTAMP:20260311T171839Z
URL:https://harvestpoint.org/events/weekend-to-remember-apr-10-12/
SUMMARY:Weekend to Remember | APR 10-12
DESCRIPTION:Marriage is a lifelong adventure of growing together through ev
 ery age and stage of life. The happiest couples are those who commit to le
 arning skills that help them weather difficult seasons and deal confidentl
 y with relationship challenges. It’s your turn to make a great marriage 
 happen.\n\nEach getaway begins Friday evening and continues through noon o
 n Sunday. It’s filled with informative group sessions and alone time wit
 h your spouse.\n\nYou will never be asked to share intimate details of you
 r relationship with anyone.\n\nIndividually\, couples complete special pro
 jects designed to reignite the spark and keep the flame burning!\n[button 
 link="https://events.familylife.com/event/Houston2026/summary?_gl=1*8z36z3
 *_gcl_au*MTI1NDAzNDY0Mi4xNzY3OTAxNzk2*_ga*MTQwODYwMDE0Ny4xNzY3OTAxNzk2*_ga
 _85G8JM3S5D*czE3Njc5MDE3OTUkbzEkZzEkdDE3Njc5MDE4NTIkajMkbDAkaDIwNDAxMDc5MT
 U." type="big"] Click Here to Register[/button]
ATTACH;FMTTYPE=image/jpeg:https://harvestpoint.org/wp-content/uploads/2026
 /01/OC-Marriage-WTR-Retreat-3.png
CATEGORIES:Marriage
LOCATION:http://weekendtoremember.com/
END:VEVENT
BEGIN:VTIMEZONE
TZID:America/Chicago
X-LIC-LOCATION:America/Chicago
BEGIN:DAYLIGHT
DTSTART:20260308T030000
TZOFFSETFROM:-0600
TZOFFSETTO:-0500
TZNAME:CDT
END:DAYLIGHT
END:VTIMEZONE
END:VCALENDAR