BEGIN:VCALENDAR
VERSION:2.0
PRODID:-//wp-events-plugin.com//7.2.3.1//EN
TZID:America/Chicago
X-WR-TIMEZONE:America/Chicago
BEGIN:VEVENT
UID:836@harvestpoint.org
DTSTART;TZID=America/Chicago:20260426T083000
DTEND;TZID=America/Chicago:20260426T113000
DTSTAMP:20260311T165537Z
URL:https://harvestpoint.org/events/student-worship-choir-takeover-sundays
 /
SUMMARY:STUDENT WORSHIP CHOIR | 7-12th Grade
DESCRIPTION:We’re inviting students in 7th–12th grade to be part of o
 ur Student Worship Choir and help lead our church in worship during spec
 ial student-led moments in our worship services this year. This is a great
  opportunity for students who love to sing and want to use their gifts to
  serve the Lord\, grow in confidence\, and be part of a team that ministe
 rs through worship.\n\n[button link="https://harvestpoint.churchcenter.com
 /registrations/events/3505577" type="big"] CLICK &amp\; SIGNUP[/button]\n\
 nParticipating in the Student Worship Choir allows students to:\n\n 	Use t
 heir musical gifts to glorify God\n 	Grow spiritually through serving and 
 leading others in worship\n 	Build friendships and community with other st
 udents\n 	Gain experience ministering in a worship service setting\n\nBelo
 w are a few of the opportunities available for students to participate\, i
 ncluding the rehearsal dates leading up to each service:\n\n 	 Student Wo
 rship Opportunity #1: April 26\, 2026\n\n 	Rehearsal Dates (Thursdays): A
 pril 9\, April 16\, April 23\n 	Time and location: 6:30pm - 7:30pm @ OCHP
 \n\n\n\n\n 	 Student Worship Opportunity #2: August 23\, 2026\n\n 	Rehea
 rsal Dates (Thursdays): August 6\, August 13\, August 20\n 	Time and loca
 tion: 6:30pm - 7:30pm @ OCHP\n\n\n
ATTACH;FMTTYPE=image/jpeg:https://harvestpoint.org/wp-content/uploads/2026
 /03/Students-Worship-Choir-V2.png
CATEGORIES:Students
LOCATION:One Church @Harvest Point\, 2450 Garden Road\, Pearland\, TX\, 775
 81\, United States
GEO:29.564042;-95.321177
X-APPLE-STRUCTURED-LOCATION;VALUE=URI;X-ADDRESS=2450 Garden Road\, Pearland
 \, TX\, 77581\, United States;X-APPLE-RADIUS=100;X-TITLE=One Church @Harve
 st Point:geo:29.564042,-95.321177
END:VEVENT
BEGIN:VTIMEZONE
TZID:America/Chicago
X-LIC-LOCATION:America/Chicago
BEGIN:DAYLIGHT
DTSTART:20260308T030000
TZOFFSETFROM:-0600
TZOFFSETTO:-0500
TZNAME:CDT
END:DAYLIGHT
END:VTIMEZONE
END:VCALENDAR