BEGIN:VCALENDAR
VERSION:2.0
PRODID:-//wp-events-plugin.com//7.2.3.1//EN
TZID:America/Chicago
X-WR-TIMEZONE:America/Chicago
BEGIN:VEVENT
UID:844@harvestpoint.org
DTSTART;TZID=America/Chicago;VALUE=DATE:20260607
DTEND;TZID=America/Chicago;VALUE=DATE:20260608
DTSTAMP:20260407T144418Z
URL:https://harvestpoint.org/events/oc-students-hs-senior-celebration-jun-
 7/
SUMMARY:OC Students: HS Senior Celebration | JUN 7
DESCRIPTION:We’re excited to celebrate the graduating high school seniors
  of our OC Student Ministry! This special day is all about honoring\, affi
 rming\, and sending off our Class of 2025 as they step into the next chapt
 er of their journey. Join us for a meaningful time of celebration\, reflec
 tion\, and encouragement\, plus a chance to highlight future plans and col
 lege paths.\n\nHigh school graduates who would like to be recognized must
  complete the registration form and submit a high-resolution photo (at le
 ast 2 MB) by May 24th.\n\n[button link="https://harvestpoint.churchcente
 r.com/registrations/events/3493626" type="big"] Click Here to Register[/bu
 tton]
ATTACH;FMTTYPE=image/jpeg:https://harvestpoint.org/wp-content/uploads/2026
 /04/2-2.png
CATEGORIES:Students
END:VEVENT
BEGIN:VTIMEZONE
TZID:America/Chicago
X-LIC-LOCATION:America/Chicago
BEGIN:DAYLIGHT
DTSTART:20260308T030000
TZOFFSETFROM:-0600
TZOFFSETTO:-0500
TZNAME:CDT
END:DAYLIGHT
END:VTIMEZONE
END:VCALENDAR