BEGIN:VCALENDAR
VERSION:2.0
PRODID:-//wp-events-plugin.com//7.2.3.1//EN
TZID:America/Chicago
X-WR-TIMEZONE:America/Chicago
BEGIN:VEVENT
UID:852@harvestpoint.org
DTSTART;TZID=America/Chicago:20260507T090000
DTEND;TZID=America/Chicago:20260507T120000
DTSTAMP:20260422T071924Z
URL:https://harvestpoint.org/events/national-day-of-prayer-2/
SUMMARY:National Day of Prayer
DESCRIPTION:One Church @ Harvest Point invites you to join us for National 
 Day of Prayer\nWhen: May 7th\nWhere: Bethel's Heavenly Hands\,  12525 Fond
 ren Road\, STE# M\, Houston\, TX 77035\nTime: 9AM - 12PM\n\nThis year's th
 eme calls us to glorify God among the nations and seek Him across all gene
 rations. Let us humble ourselves\, repent\, and rededicate our hearts\, ou
 r families\, and our nation back to God. Together\, we'll pray for healing
 \, unity\, and renewal. Come with an open heart and leave transformed. We 
 are expecting you!
ATTACH;FMTTYPE=image/jpeg:https://harvestpoint.org/wp-content/uploads/2026
 /04/National_day_of_Prayer_2026-1.png
CATEGORIES:Care,Churchwide
LOCATION:Bethel's Heavenly Hands\, 12525 Fondren Road\, STE# M\, Houston\, 
 TX\, 77035\, United States
X-APPLE-STRUCTURED-LOCATION;VALUE=URI;X-ADDRESS=12525 Fondren Road\, STE# M
 \, Houston\, TX\, 77035\, United States;X-APPLE-RADIUS=100;X-TITLE=Bethel'
 s Heavenly Hands:geo:0,0
END:VEVENT
BEGIN:VTIMEZONE
TZID:America/Chicago
X-LIC-LOCATION:America/Chicago
BEGIN:DAYLIGHT
DTSTART:20260308T030000
TZOFFSETFROM:-0600
TZOFFSETTO:-0500
TZNAME:CDT
END:DAYLIGHT
END:VTIMEZONE
END:VCALENDAR