BEGIN:VCALENDAR
VERSION:2.0
PRODID:-//wp-events-plugin.com//7.2.3.1//EN
TZID:America/Chicago
X-WR-TIMEZONE:America/Chicago
BEGIN:VEVENT
UID:848@harvestpoint.org
DTSTART;TZID=America/Chicago:20260802T123000
DTEND;TZID=America/Chicago:20260802T133000
DTSTAMP:20260421T142403Z
URL:https://harvestpoint.org/events/leadership-cohort-interest-meeting-aug
 -2/
SUMMARY:Leadership Cohort Interest Meeting | AUG 2
DESCRIPTION:OC Leadership Cohort takes leaders on journey to discover thei
 r God-given spiritual gifts\, identify their unique personality traits\, a
 nd reinforce the disciplines of Christian living that the Bible has instit
 uted. Join us for this information session to learn about a 32-week enric
 hment course that will prepare you to be both practically and spiritually 
 fit for the journey God has laid before you.\n\n&nbsp\;\n\n&nbsp\;
ATTACH;FMTTYPE=image/jpeg:https://harvestpoint.org/wp-content/uploads/2026
 /04/v2.png
CATEGORIES:Churchwide,Leadership
LOCATION:One Church @Harvest Point\, 2450 Garden Road\, Pearland\, TX\, 775
 81\, United States
GEO:29.564042;-95.321177
X-APPLE-STRUCTURED-LOCATION;VALUE=URI;X-ADDRESS=2450 Garden Road\, Pearland
 \, TX\, 77581\, United States;X-APPLE-RADIUS=100;X-TITLE=One Church @Harve
 st Point:geo:29.564042,-95.321177
END:VEVENT
BEGIN:VTIMEZONE
TZID:America/Chicago
X-LIC-LOCATION:America/Chicago
BEGIN:DAYLIGHT
DTSTART:20260308T030000
TZOFFSETFROM:-0600
TZOFFSETTO:-0500
TZNAME:CDT
END:DAYLIGHT
END:VTIMEZONE
END:VCALENDAR