BEGIN:VCALENDAR
VERSION:2.0
PRODID:-//wp-events-plugin.com//7.2.3.1//EN
TZID:America/Chicago
X-WR-TIMEZONE:America/Chicago
BEGIN:VEVENT
UID:842@harvestpoint.org
DTSTART;TZID=America/Chicago:20260522T170000
DTEND;TZID=America/Chicago:20260522T200000
DTSTAMP:20260409T162516Z
URL:https://harvestpoint.org/events/launch-college-ministry-summer-reset-m
 ay-22/
SUMMARY:Young Adults Ministry Summer Reset | MAY 22
DESCRIPTION:We are thrilled to invite all Young Adults to Rooted in Worship
 \, a Young Adults Ministry gathering designed to help individuals reset th
 eir faith\, priorities\, and connection to Christ through worship\, discus
 sion\, and fellowship.\n\nThis special evening will create space for young
  adults in every season to reconnect spiritually\, build meaningful relati
 onships\, and be encouraged in what God is doing in their lives. Whether y
 ou are navigating college\, career\, or a new season\, this night is for y
 ou. The night will be packed with worship\, creative expressions\, breakou
 t sessions\, food\, and fellowship.\n\nGet registered today and join us fo
 r the perfect opportunity to reset\, reconnect\, and recharge your Christi
 an walk with other believers.\n\n[button link="https://harvestpoint.church
 center.com/registrations/events/3505579" type="big"] Click Here to Registe
 r[/button]
ATTACH;FMTTYPE=image/jpeg:https://harvestpoint.org/wp-content/uploads/2026
 /03/2_V2.png
CATEGORIES:College,Young Adult
LOCATION:One Church @Harvest Point\, 2450 Garden Road\, Pearland\, TX\, 775
 81\, United States
GEO:29.564042;-95.321177
X-APPLE-STRUCTURED-LOCATION;VALUE=URI;X-ADDRESS=2450 Garden Road\, Pearland
 \, TX\, 77581\, United States;X-APPLE-RADIUS=100;X-TITLE=One Church @Harve
 st Point:geo:29.564042,-95.321177
END:VEVENT
BEGIN:VTIMEZONE
TZID:America/Chicago
X-LIC-LOCATION:America/Chicago
BEGIN:DAYLIGHT
DTSTART:20260308T030000
TZOFFSETFROM:-0600
TZOFFSETTO:-0500
TZNAME:CDT
END:DAYLIGHT
END:VTIMEZONE
END:VCALENDAR