BEGIN:VCALENDAR
VERSION:2.0
PRODID:-//wp-events-plugin.com//7.2.3.1//EN
TZID:America/Chicago
X-WR-TIMEZONE:America/Chicago
BEGIN:VEVENT
UID:854@harvestpoint.org
DTSTART;TZID=America/Chicago;VALUE=DATE:20260725
DTEND;TZID=America/Chicago;VALUE=DATE:20260726
DTSTAMP:20260422T075529Z
URL:https://harvestpoint.org/events/hp-academy-spark-faith-summer-camp/
SUMMARY:HP Academy: Spark Faith Summer Camp
DESCRIPTION:This summer\, your child becomes a creation scientist! HP Acade
 my's Spark Faith Summer Camp blends faith and STEM through hands-on experi
 ments\, discovery\, and wonder – all pointing back to our amazing Creato
 r. Ages PreK through 5th grade. June 3rd – July 31st. $250 per camper\, 
 per week.\n\nRegister today – spots are limited!\n\n[button link="https:
 //docs.google.com/forms/d/e/1FAIpQLSd130OYfEZ5zgkDdGQUMbcqBW9F2XDT0-DBzAgX
 m_xNao9cOg/viewform" type="big"] Click &amp\; Get Registered[/button]\n\n&
 nbsp\;\n 
ATTACH;FMTTYPE=image/jpeg:https://harvestpoint.org/wp-content/uploads/2026
 /04/1-2.png
CATEGORIES:Kids
LOCATION:One Church @Harvest Point\, 2450 Garden Road\, Pearland\, TX\, 775
 81\, United States
GEO:29.564042;-95.321177
X-APPLE-STRUCTURED-LOCATION;VALUE=URI;X-ADDRESS=2450 Garden Road\, Pearland
 \, TX\, 77581\, United States;X-APPLE-RADIUS=100;X-TITLE=One Church @Harve
 st Point:geo:29.564042,-95.321177
END:VEVENT
BEGIN:VTIMEZONE
TZID:America/Chicago
X-LIC-LOCATION:America/Chicago
BEGIN:DAYLIGHT
DTSTART:20260308T030000
TZOFFSETFROM:-0600
TZOFFSETTO:-0500
TZNAME:CDT
END:DAYLIGHT
END:VTIMEZONE
END:VCALENDAR