BEGIN:VCALENDAR
VERSION:2.0
PRODID:-//wp-events-plugin.com//7.2.3.1//EN
TZID:America/Chicago
X-WR-TIMEZONE:America/Chicago
BEGIN:VEVENT
UID:849@harvestpoint.org
DTSTART;TZID=America/Chicago:20260621T083000
DTEND;TZID=America/Chicago:20260621T123000
DTSTAMP:20260421T142029Z
URL:https://harvestpoint.org/events/fathers-day-social/
SUMMARY:Father's Day Social
DESCRIPTION:This Father’s Day\, Connect invites you to a special Father
 ’s Day Social right after both services.  Let’s take time to honor an
 d celebrate the amazing fathers of One Church at Harvest Point with fellow
 ship\, fun\, and a moment to connect.
ATTACH;FMTTYPE=image/jpeg:https://harvestpoint.org/wp-content/uploads/2026
 /04/Fathers-Day-Social.png
LOCATION:One Church @Harvest Point\, 2450 Garden Road\, Pearland\, TX\, 775
 81\, United States
GEO:29.564042;-95.321177
X-APPLE-STRUCTURED-LOCATION;VALUE=URI;X-ADDRESS=2450 Garden Road\, Pearland
 \, TX\, 77581\, United States;X-APPLE-RADIUS=100;X-TITLE=One Church @Harve
 st Point:geo:29.564042,-95.321177
END:VEVENT
BEGIN:VTIMEZONE
TZID:America/Chicago
X-LIC-LOCATION:America/Chicago
BEGIN:DAYLIGHT
DTSTART:20260308T030000
TZOFFSETFROM:-0600
TZOFFSETTO:-0500
TZNAME:CDT
END:DAYLIGHT
END:VTIMEZONE
END:VCALENDAR