BEGIN:VCALENDAR
VERSION:2.0
PRODID:-//wp-events-plugin.com//7.2.3.1//EN
TZID:America/Chicago
X-WR-TIMEZONE:America/Chicago
BEGIN:VEVENT
UID:846@harvestpoint.org
DTSTART;TZID=America/Chicago:20260516T090000
DTEND;TZID=America/Chicago:20260516T113000
DTSTAMP:20260414T213953Z
URL:https://harvestpoint.org/events/equip-saturdays-may-16/
SUMMARY:Equip Saturdays | MAY 16
DESCRIPTION:Equip Saturdays are dedicated training days for those actively 
 serving on a ministry team at One Church @ Harvest Point. This event provi
 des an opportunity for ministries to lead their trainings in a supported\,
  collaborative environment\, allowing teams to be equipped together effici
 ently.\n\nOur goal is to create a focused space that strengthens teams and
  supports ministries as they grow in how they serve.Join us on Saturday\,
  May 16\, 2026\, for breakfast\, connection\, and equipping\, because when
  we grow together\, we serve stronger.\n\n[button link="https://harvestpoi
 nt.churchcenter.com/registrations/events/3422241" type="big" newwindow="ye
 s"] Register Here[/button]\n\n&nbsp\;
ATTACH;FMTTYPE=image/jpeg:https://harvestpoint.org/wp-content/uploads/2026
 /04/Equip-Sat.-May-2026.png
CATEGORIES:Churchwide,Leadership
LOCATION:One Church @Harvest Point\, 2450 Garden Road\, Pearland\, TX\, 775
 81\, United States
GEO:29.564042;-95.321177
X-APPLE-STRUCTURED-LOCATION;VALUE=URI;X-ADDRESS=2450 Garden Road\, Pearland
 \, TX\, 77581\, United States;X-APPLE-RADIUS=100;X-TITLE=One Church @Harve
 st Point:geo:29.564042,-95.321177
END:VEVENT
BEGIN:VTIMEZONE
TZID:America/Chicago
X-LIC-LOCATION:America/Chicago
BEGIN:DAYLIGHT
DTSTART:20260308T030000
TZOFFSETFROM:-0600
TZOFFSETTO:-0500
TZNAME:CDT
END:DAYLIGHT
END:VTIMEZONE
END:VCALENDAR